View In:
ArcGIS JavaScript
ArcGIS Online Map Viewer
ArcGIS Earth
ArcMap
View Footprint In:
ArcGIS Online Map Viewer
Service Description: OSIP 6 inch best available most recent. Includes 40 counties from OSIP III. 2018 - Allen, Brown, Butler, Clark, Clermont, Clinton, Darke, Defiance, Fulton, Hamilton, Highland, Henry, Mercer, Miami, Montgomery, Preble, Putnam, Shelby, Van Wert, Warren, WIlliams. 2017 - Ashtabula, Columbiana, Cuyahoga, Erie, Geauga, Hancock, Lake, Lorain, Mahoning, Medina, Ottawa, Portage,Sandusky, Seneca, Stark, Summit, Wayne 2014- Adams, Athens, Champaign, Greene, Guernsey, Hocking, Lucas, Tuscarawas, Washington, Wood, 2013 - Fayette, Lawrence 2012- Harrison, Paulding, Union 2011- Auglaize 2010 - Crawford, Delaware
Name: OSIP/OSIP_6in_best_avail
Description: OSIP 6 inch best available most recent. Includes 40 counties from OSIP III. 2018 - Allen, Brown, Butler, Clark, Clermont, Clinton, Darke, Defiance, Fulton, Hamilton, Highland, Henry, Mercer, Miami, Montgomery, Preble, Putnam, Shelby, Van Wert, Warren, WIlliams. 2017 - Ashtabula, Columbiana, Cuyahoga, Erie, Geauga, Hancock, Lake, Lorain, Mahoning, Medina, Ottawa, Portage,Sandusky, Seneca, Stark, Summit, Wayne 2014- Adams, Athens, Champaign, Greene, Guernsey, Hocking, Lucas, Tuscarawas, Washington, Wood, 2013 - Fayette, Lawrence 2012- Harrison, Paulding, Union 2011- Auglaize 2010 - Crawford, Delaware
Single Fused Map Cache: false
Extent:
XMin: 1304621.25
YMin: -462312
XMax: 2520000
YMax: 852500
Spatial Reference: 3753
(3753)
Initial Extent:
XMin: 1304621.25
YMin: -462312
XMax: 2520000
YMax: 852500
Spatial Reference: 3753
(3753)
Full Extent:
XMin: 1304621.25
YMin: -462312
XMax: 2520000
YMax: 852500
Spatial Reference: 3753
(3753)
Pixel Size X: 0.25
Pixel Size Y: 0.25
Band Count: 4
Pixel Type: U8
RasterFunction Infos: {"rasterFunctionInfos": [{
"name": "None",
"description": "",
"help": ""
}]}
Mensuration Capabilities:
Has Histograms: true
Has Colormap: false
Has Multi Dimensions : false
Rendering Rule:
Min Scale: 0
Max Scale: 0
Copyright Text: State of Ohio GISSC
Service Data Type: esriImageServiceDataTypeGeneric
Min Values: 0, 0, 0, 0
Max Values: 255, 255, 255, 255
Mean Values: 105.31268076083661, 102.06384517113406, 84.56306224383003, 98.59783656990433
Standard Deviation Values: 21.388827551150325, 19.594359469045266, 18.582417688052747, 29.186157094258384
Object ID Field: OBJECTID
Fields:
-
OBJECTID
(
type: esriFieldTypeOID, alias: OBJECTID
)
-
Shape
(
type: esriFieldTypeGeometry, alias: Shape
)
-
Name
(
type: esriFieldTypeString, alias: Name, length: 200
)
-
MinPS
(
type: esriFieldTypeDouble, alias: MinPS
)
-
MaxPS
(
type: esriFieldTypeDouble, alias: MaxPS
)
-
LowPS
(
type: esriFieldTypeDouble, alias: LowPS
)
-
HighPS
(
type: esriFieldTypeDouble, alias: HighPS
)
-
Category
(
type: esriFieldTypeInteger, alias: Category
, Coded Values:
[0: Unknown]
, [1: Primary]
, [2: Overview]
, ...6 more...
)
-
Tag
(
type: esriFieldTypeString, alias: Tag, length: 100
)
-
GroupName
(
type: esriFieldTypeString, alias: GroupName, length: 100
)
-
ProductName
(
type: esriFieldTypeString, alias: ProductName, length: 100
)
-
CenterX
(
type: esriFieldTypeDouble, alias: CenterX
)
-
CenterY
(
type: esriFieldTypeDouble, alias: CenterY
)
-
ZOrder
(
type: esriFieldTypeInteger, alias: ZOrder
)
-
Shape_Length
(
type: esriFieldTypeDouble, alias: Shape_Length
)
-
Shape_Area
(
type: esriFieldTypeDouble, alias: Shape_Area
)
-
Thumbnail
(
type: esriFieldTypeBlob, alias: Thumbnail
)
Default Mosaic Method: Northwest
Allowed Mosaic Methods: NorthWest,Center,LockRaster,ByAttribute,Nadir,Viewpoint,Seamline,None
SortField:
SortValue: null
Mosaic Operator: First
Default Compression Quality: 75
Default Resampling Method: Bilinear
Max Record Count: 1000
Max Image Height: 4100
Max Image Width: 15000
Max Download Image Count: 20
Max Mosaic Image Count: 20
Allow Raster Function: true
Allow Copy: null
Allow Analysis: null
Allow Compute TiePoints: false
Supports Statistics: true
Supports Advanced Queries: true
Use StandardizedQueries: true
Raster Type Infos:
Name: Raster Dataset
Description: Supports all ArcGIS Raster Datasets
Help:
Has Raster Attribute Table: false
Edit Fields Info: null
Ownership Based AccessControl For Rasters: null
Child Resources:
Info
Histograms
Key Properties
Legend
Raster Function Infos
Supported Operations:
Export Image
Query
Identify
Measure
Compute Histograms
Compute Statistics Histograms
Get Samples
Compute Class Statistics
Query Boundary
Compute Pixel Location
Compute Angles
Validate
Project